{"text_format":"3","workbook":"xlsx","n_sheets":3,"sheets":["設定","出勤簿","マスタ"],"not_rendered":{"images":1,"macros":1,"defined_names":1},"read":"whole","date_system":"1900"}

{"sheet":"設定","index":0,"n_rows":22,"n_cols":7,"rows_kept":22,"merged":[[3,2,4,9],[7,2,7,5],[7,6,7,9],[8,2,8,5],[8,6,8,9],[9,2,9,5],[9,6,9,9],[10,2,10,5],[10,6,10,9],[17,2,18,9],[21,2,21,5],[21,6,21,9]]}
[]
[]
[]
[null,null,"出勤簿シートの個人情報設定 / Personal information"]
[]
[]
[]
[null,null,"職員番号 / Employee number"]
[null,null,"所属 / Department"]
[null,null,"職名 / Job title"]
[null,null,"氏名 / Name",{"$nulls":3},"北海道　太郎"]
[]
[]
[]
[]
[]
[]
[null,null,"出勤簿シートの年月設定 / Years and months"]
[]
[]
[]
[null,null,"年月 / Years and months",{"$nulls":3},"2021-08-01"]

{"sheet":"出勤簿","index":1,"n_rows":52,"n_cols":19,"rows_kept":52,"merged":[[0,7,0,19],[2,7,2,8],[2,9,2,11],[2,12,2,13],[2,14,2,19],[3,7,3,8],[3,9,3,11],[3,12,3,13],[3,14,3,17],[3,18,3,19],[7,13,7,19],[8,13,8,19],[9,13,9,19],[10,13,10,19],[11,13,11,19],[12,13,12,19],[13,13,13,19],[14,13,14,19],[15,13,15,19],[16,13,16,19],[17,13,17,19],[18,13,18,19],[19,13,19,19],[20,13,20,19],[21,13,21,19],[22,13,22,19],[23,13,23,19],[24,13,24,19],[25,13,25,19],[26,13,26,19],[27,13,27,19],[28,13,28,19],[29,13,29,19],[30,13,30,19],[31,13,31,19],[32,13,32,19],[33,13,33,19],[34,13,34,19],[35,13,35,19],[36,13,36,19],[37,13,37,19],[38,13,38,19],[40,18,40,19],[41,7,41,10],[41,18,44,19],[42,7,42,10],[43,7,43,10],[44,7,44,10]]}
[{"$nulls":7},{"$f":"TEXT(設定!G22,\"yyyy年m月\")&\" 勤務状況自己申告書\"","v":"2021年8月 勤務状況自己申告書"}]
[]
[{"$nulls":7},"職員番号\nEmployee number",{"$nulls":4},"所属\nDepartment"]
[{"$nulls":7},"職名\nJob title",{"$nulls":4},"氏名\nName",{"$nulls":5},"（署名または押印)"]
[]
[{"$nulls":7},"＊「実労働時間」…休憩時間，自己研鑽，研修等を除いた時間 / Hours excluding break time, self-discipline, training, etc."]
[{"$nulls":7},"＊「うち深夜労働時間」…『実労働時間』に含まれる，22:00-翌5:00の労働時間 / Working hours from 22:00 to 5:00 included in the \"実労働時間\""]
["稼働日FLG","曜日表記","祝日FLG","実労働時間","実労働分","深夜時間","深夜分","日 / Date","曜 / DOW","始業時刻\nStarting","終業時刻\nFinishing",null,null,"備考 / Remarks "]
[{"$f":"IF(AND(0=C9,6>WEEKDAY(H9,11)),TRUE,FALSE)","v":false},{"$f":"IF(\"\"=H9,\"\",IF(1=C9,VLOOKUP(0,マスタ!I:J,2,FALSE),VLOOKUP(WEEKDAY(H9,11),マスタ!E:G,2,FALSE)))","v":"日"},{"$f":"COUNTIF(マスタ!A:A,H9)","v":0},{"$f":"HOUR(L9)","v":0},{"$f":"MINUTE(L9)","v":0},{"$f":"HOUR(M9)","v":0},{"$f":"MINUTE(M9)","v":0},{"$f":"DATE(YEAR(設定!$G$22),MONTH(設定!$G$22),1)","v":"2021-08-01"},{"$f":"B9","v":"日"}]
[true,{"$f":"IF(\"\"=H10,\"\",IF(1=C10,VLOOKUP(0,マスタ!I:J,2,FALSE),VLOOKUP(WEEKDAY(H10,11),マスタ!E:G,2,FALSE)))","v":"月"},{"$f":"COUNTIF(マスタ!A:A,H10)","v":0},0,0,0,0,{"$f":"IFERROR(IF(MONTH(設定!$G$22)<MONTH(H9+1),\"\",H9+1),\"\")","v":"2021-08-02"},{"$f":"B10","v":"月"}]
[true,{"$f":"IF(\"\"=H11,\"\",IF(1=C11,VLOOKUP(0,マスタ!I:J,2,FALSE),VLOOKUP(WEEKDAY(H11,11),マスタ!E:G,2,FALSE)))","v":"火"},{"$f":"COUNTIF(マスタ!A:A,H11)","v":0},0,0,0,0,{"$f":"IFERROR(IF(MONTH(設定!$G$22)<MONTH(H10+1),\"\",H10+1),\"\")","v":"2021-08-03"},"火"]
[true,{"$f":"IF(\"\"=H12,\"\",IF(1=C12,VLOOKUP(0,マスタ!I:J,2,FALSE),VLOOKUP(WEEKDAY(H12,11),マスタ!E:G,2,FALSE)))","v":"水"},{"$f":"COUNTIF(マスタ!A:A,H12)","v":0},{"$f":"HOUR(L12)","v":0},{"$f":"MINUTE(L12)","v":0},{"$f":"HOUR(M12)","v":0},{"$f":"MINUTE(M12)","v":0},{"$f":"IFERROR(IF(MONTH(設定!$G$22)<MONTH(H11+1),\"\",H11+1),\"\")","v":"2021-08-04"},"水"]
[true,{"$f":"IF(\"\"=H13,\"\",IF(1=C13,VLOOKUP(0,マスタ!I:J,2,FALSE),VLOOKUP(WEEKDAY(H13,11),マスタ!E:G,2,FALSE)))","v":"木"},{"$f":"COUNTIF(マスタ!A:A,H13)","v":0},{"$f":"HOUR(L13)","v":0},{"$f":"MINUTE(L13)","v":0},{"$f":"HOUR(M13)","v":0},{"$f":"MINUTE(M13)","v":0},{"$f":"IFERROR(IF(MONTH(設定!$G$22)<MONTH(H12+1),\"\",H12+1),\"\")","v":"2021-08-05"},"木"]
[true,{"$f":"IF(\"\"=H14,\"\",IF(1=C14,VLOOKUP(0,マスタ!I:J,2,FALSE),VLOOKUP(WEEKDAY(H14,11),マスタ!E:G,2,FALSE)))","v":"金"},{"$f":"COUNTIF(マスタ!A:A,H14)","v":0},0,0,0,0,{"$f":"IFERROR(IF(MONTH(設定!$G$22)<MONTH(H13+1),\"\",H13+1),\"\")","v":"2021-08-06"},"金"]
[false,{"$f":"IF(\"\"=H15,\"\",IF(1=C15,VLOOKUP(0,マスタ!I:J,2,FALSE),VLOOKUP(WEEKDAY(H15,11),マスタ!E:G,2,FALSE)))","v":"土"},{"$f":"COUNTIF(マスタ!A:A,H15)","v":0},0,0,0,0,{"$f":"IFERROR(IF(MONTH(設定!$G$22)<MONTH(H14+1),\"\",H14+1),\"\")","v":"2021-08-07"},"土"]
[false,{"$f":"IF(\"\"=H16,\"\",IF(1=C16,VLOOKUP(0,マスタ!I:J,2,FALSE),VLOOKUP(WEEKDAY(H16,11),マスタ!E:G,2,FALSE)))","v":"祝"},{"$f":"COUNTIF(マスタ!A:A,H16)","v":1},0,0,0,0,{"$f":"IFERROR(IF(MONTH(設定!$G$22)<MONTH(H15+1),\"\",H15+1),\"\")","v":"2021-08-08"},"祝"]
[false,{"$f":"IF(\"\"=H17,\"\",IF(1=C17,VLOOKUP(0,マスタ!I:J,2,FALSE),VLOOKUP(WEEKDAY(H17,11),マスタ!E:G,2,FALSE)))","v":"祝"},{"$f":"COUNTIF(マスタ!A:A,H17)","v":1},0,0,0,0,{"$f":"IFERROR(IF(MONTH(設定!$G$22)<MONTH(H16+1),\"\",H16+1),\"\")","v":"2021-08-09"},"祝"]
[true,{"$f":"IF(\"\"=H18,\"\",IF(1=C18,VLOOKUP(0,マスタ!I:J,2,FALSE),VLOOKUP(WEEKDAY(H18,11),マスタ!E:G,2,FALSE)))","v":"火"},{"$f":"COUNTIF(マスタ!A:A,H18)","v":0},0,0,0,0,{"$f":"IFERROR(IF(MONTH(設定!$G$22)<MONTH(H17+1),\"\",H17+1),\"\")","v":"2021-08-10"},"火"]
[true,{"$f":"IF(\"\"=H19,\"\",IF(1=C19,VLOOKUP(0,マスタ!I:J,2,FALSE),VLOOKUP(WEEKDAY(H19,11),マスタ!E:G,2,FALSE)))","v":"水"},{"$f":"COUNTIF(マスタ!A:A,H19)","v":0},0,0,0,0,{"$f":"IFERROR(IF(MONTH(設定!$G$22)<MONTH(H18+1),\"\",H18+1),\"\")","v":"2021-08-11"},"水"]
[true,{"$f":"IF(\"\"=H20,\"\",IF(1=C20,VLOOKUP(0,マスタ!I:J,2,FALSE),VLOOKUP(WEEKDAY(H20,11),マスタ!E:G,2,FALSE)))","v":"木"},{"$f":"COUNTIF(マスタ!A:A,H20)","v":0},0,0,0,0,{"$f":"IFERROR(IF(MONTH(設定!$G$22)<MONTH(H19+1),\"\",H19+1),\"\")","v":"2021-08-12"},"木"]
[true,{"$f":"IF(\"\"=H21,\"\",IF(1=C21,VLOOKUP(0,マスタ!I:J,2,FALSE),VLOOKUP(WEEKDAY(H21,11),マスタ!E:G,2,FALSE)))","v":"金"},{"$f":"COUNTIF(マスタ!A:A,H21)","v":0},0,0,0,0,{"$f":"IFERROR(IF(MONTH(設定!$G$22)<MONTH(H20+1),\"\",H20+1),\"\")","v":"2021-08-13"},"金"]
[false,{"$f":"IF(\"\"=H22,\"\",IF(1=C22,VLOOKUP(0,マスタ!I:J,2,FALSE),VLOOKUP(WEEKDAY(H22,11),マスタ!E:G,2,FALSE)))","v":"土"},{"$f":"COUNTIF(マスタ!A:A,H22)","v":0},0,0,0,0,{"$f":"IFERROR(IF(MONTH(設定!$G$22)<MONTH(H21+1),\"\",H21+1),\"\")","v":"2021-08-14"},"土"]
[false,{"$f":"IF(\"\"=H23,\"\",IF(1=C23,VLOOKUP(0,マスタ!I:J,2,FALSE),VLOOKUP(WEEKDAY(H23,11),マスタ!E:G,2,FALSE)))","v":"日"},{"$f":"COUNTIF(マスタ!A:A,H23)","v":0},0,0,0,0,{"$f":"IFERROR(IF(MONTH(設定!$G$22)<MONTH(H22+1),\"\",H22+1),\"\")","v":"2021-08-15"},"日"]
[true,{"$f":"IF(\"\"=H24,\"\",IF(1=C24,VLOOKUP(0,マスタ!I:J,2,FALSE),VLOOKUP(WEEKDAY(H24,11),マスタ!E:G,2,FALSE)))","v":"月"},{"$f":"COUNTIF(マスタ!A:A,H24)","v":0},0,0,0,0,{"$f":"IFERROR(IF(MONTH(設定!$G$22)<MONTH(H23+1),\"\",H23+1),\"\")","v":"2021-08-16"},"月"]
[true,{"$f":"IF(\"\"=H25,\"\",IF(1=C25,VLOOKUP(0,マスタ!I:J,2,FALSE),VLOOKUP(WEEKDAY(H25,11),マスタ!E:G,2,FALSE)))","v":"火"},{"$f":"COUNTIF(マスタ!A:A,H25)","v":0},0,0,0,0,{"$f":"IFERROR(IF(MONTH(設定!$G$22)<MONTH(H24+1),\"\",H24+1),\"\")","v":"2021-08-17"},"火"]
[true,{"$f":"IF(\"\"=H26,\"\",IF(1=C26,VLOOKUP(0,マスタ!I:J,2,FALSE),VLOOKUP(WEEKDAY(H26,11),マスタ!E:G,2,FALSE)))","v":"水"},{"$f":"COUNTIF(マスタ!A:A,H26)","v":0},0,0,0,0,{"$f":"IFERROR(IF(MONTH(設定!$G$22)<MONTH(H25+1),\"\",H25+1),\"\")","v":"2021-08-18"},"水"]
[true,{"$f":"IF(\"\"=H27,\"\",IF(1=C27,VLOOKUP(0,マスタ!I:J,2,FALSE),VLOOKUP(WEEKDAY(H27,11),マスタ!E:G,2,FALSE)))","v":"木"},{"$f":"COUNTIF(マスタ!A:A,H27)","v":0},0,0,0,0,{"$f":"IFERROR(IF(MONTH(設定!$G$22)<MONTH(H26+1),\"\",H26+1),\"\")","v":"2021-08-19"},"木"]
[true,{"$f":"IF(\"\"=H28,\"\",IF(1=C28,VLOOKUP(0,マスタ!I:J,2,FALSE),VLOOKUP(WEEKDAY(H28,11),マスタ!E:G,2,FALSE)))","v":"金"},{"$f":"COUNTIF(マスタ!A:A,H28)","v":0},0,0,0,0,{"$f":"IFERROR(IF(MONTH(設定!$G$22)<MONTH(H27+1),\"\",H27+1),\"\")","v":"2021-08-20"},"金"]
[false,{"$f":"IF(\"\"=H29,\"\",IF(1=C29,VLOOKUP(0,マスタ!I:J,2,FALSE),VLOOKUP(WEEKDAY(H29,11),マスタ!E:G,2,FALSE)))","v":"土"},{"$f":"COUNTIF(マスタ!A:A,H29)","v":0},0,0,0,0,{"$f":"IFERROR(IF(MONTH(設定!$G$22)<MONTH(H28+1),\"\",H28+1),\"\")","v":"2021-08-21"},"土"]
[false,{"$f":"IF(\"\"=H30,\"\",IF(1=C30,VLOOKUP(0,マスタ!I:J,2,FALSE),VLOOKUP(WEEKDAY(H30,11),マスタ!E:G,2,FALSE)))","v":"日"},{"$f":"COUNTIF(マスタ!A:A,H30)","v":0},0,0,0,0,{"$f":"IFERROR(IF(MONTH(設定!$G$22)<MONTH(H29+1),\"\",H29+1),\"\")","v":"2021-08-22"},"日"]
[true,{"$f":"IF(\"\"=H31,\"\",IF(1=C31,VLOOKUP(0,マスタ!I:J,2,FALSE),VLOOKUP(WEEKDAY(H31,11),マスタ!E:G,2,FALSE)))","v":"月"},{"$f":"COUNTIF(マスタ!A:A,H31)","v":0},0,0,0,0,{"$f":"IFERROR(IF(MONTH(設定!$G$22)<MONTH(H30+1),\"\",H30+1),\"\")","v":"2021-08-23"},"月"]
[true,{"$f":"IF(\"\"=H32,\"\",IF(1=C32,VLOOKUP(0,マスタ!I:J,2,FALSE),VLOOKUP(WEEKDAY(H32,11),マスタ!E:G,2,FALSE)))","v":"火"},{"$f":"COUNTIF(マスタ!A:A,H32)","v":0},0,0,0,0,{"$f":"IFERROR(IF(MONTH(設定!$G$22)<MONTH(H31+1),\"\",H31+1),\"\")","v":"2021-08-24"},"火"]
[true,{"$f":"IF(\"\"=H33,\"\",IF(1=C33,VLOOKUP(0,マスタ!I:J,2,FALSE),VLOOKUP(WEEKDAY(H33,11),マスタ!E:G,2,FALSE)))","v":"水"},{"$f":"COUNTIF(マスタ!A:A,H33)","v":0},0,0,0,0,{"$f":"IFERROR(IF(MONTH(設定!$G$22)<MONTH(H32+1),\"\",H32+1),\"\")","v":"2021-08-25"},"水"]
[true,{"$f":"IF(\"\"=H34,\"\",IF(1=C34,VLOOKUP(0,マスタ!I:J,2,FALSE),VLOOKUP(WEEKDAY(H34,11),マスタ!E:G,2,FALSE)))","v":"木"},{"$f":"COUNTIF(マスタ!A:A,H34)","v":0},0,0,0,0,{"$f":"IFERROR(IF(MONTH(設定!$G$22)<MONTH(H33+1),\"\",H33+1),\"\")","v":"2021-08-26"},"木"]
[true,{"$f":"IF(\"\"=H35,\"\",IF(1=C35,VLOOKUP(0,マスタ!I:J,2,FALSE),VLOOKUP(WEEKDAY(H35,11),マスタ!E:G,2,FALSE)))","v":"金"},{"$f":"COUNTIF(マスタ!A:A,H35)","v":0},0,0,0,0,{"$f":"IFERROR(IF(MONTH(設定!$G$22)<MONTH(H34+1),\"\",H34+1),\"\")","v":"2021-08-27"},"金"]
[false,{"$f":"IF(\"\"=H36,\"\",IF(1=C36,VLOOKUP(0,マスタ!I:J,2,FALSE),VLOOKUP(WEEKDAY(H36,11),マスタ!E:G,2,FALSE)))","v":"土"},{"$f":"COUNTIF(マスタ!A:A,H36)","v":0},0,0,0,0,{"$f":"IFERROR(IF(MONTH(設定!$G$22)<MONTH(H35+1),\"\",H35+1),\"\")","v":"2021-08-28"},"土"]
[false,{"$f":"IF(\"\"=H37,\"\",IF(1=C37,VLOOKUP(0,マスタ!I:J,2,FALSE),VLOOKUP(WEEKDAY(H37,11),マスタ!E:G,2,FALSE)))","v":"日"},{"$f":"COUNTIF(マスタ!A:A,H37)","v":0},0,0,0,0,{"$f":"IFERROR(IF(MONTH(設定!$G$22)<MONTH(H36+1),\"\",H36+1),\"\")","v":"2021-08-29"},"日"]
[true,{"$f":"IF(\"\"=H38,\"\",IF(1=C38,VLOOKUP(0,マスタ!I:J,2,FALSE),VLOOKUP(WEEKDAY(H38,11),マスタ!E:G,2,FALSE)))","v":"月"},{"$f":"COUNTIF(マスタ!A:A,H38)","v":0},0,0,0,0,{"$f":"IFERROR(IF(MONTH(設定!$G$22)<MONTH(H37+1),\"\",H37+1),\"\")","v":"2021-08-30"},"月"]
[true,{"$f":"IF(\"\"=H39,\"\",IF(1=C39,VLOOKUP(0,マスタ!I:J,2,FALSE),VLOOKUP(WEEKDAY(H39,11),マスタ!E:G,2,FALSE)))","v":"火"},{"$f":"COUNTIF(マスタ!A:A,H39)","v":0},0,0,0,0,{"$f":"IFERROR(IF(MONTH(設定!$G$22)<MONTH(H38+1),\"\",H38+1),\"\")","v":"2021-08-31"},"火"]
[null,null,"時間合計→",{"$f":"SUM(D9:D39)","v":0},{"$f":"SUM(E9:E39)","v":0},{"$f":"SUM(F9:F39)","v":0},{"$f":"SUM(G9:G39)","v":0}]
[null,null,"休日時間合計→",{"$f":"SUMIF($A9:$A39,FALSE,D9:D39)","v":0},{"$f":"SUMIF($A9:$A39,FALSE,E9:E39)","v":0},{"$nulls":13},"事務部担当者"]
[{"$nulls":5},"所定労働時間→",{"$f":"7.75*COUNTIF(A:A,TRUE)","v":162.75}]
[{"$nulls":5},"法定労働時間分→",{"$f":"VLOOKUP(DAY(EOMONTH(設定!G22,0)),マスタ!L:P,5,FALSE)","v":10628}]
[{"$nulls":5},"法定労働時間を超えた時間数→",{"$f":"((D40*60+E40)-G43)/60","v":-177.13333333333333}]
[]
[{"$nulls":5},"時","分"]
[{"$nulls":4},"実労働時間分→",{"$f":"D40+QUOTIENT(E40,60)","v":0},{"$f":"MOD(E40,60)","v":0}]
[{"$nulls":4},"所定労働時間分→",{"$f":"INT(G42)","v":162},{"$f":"(G42-L43)*60","v":9765}]
[{"$nulls":4},"法定労働時間数分→",{"$f":"VLOOKUP(DAY(EOMONTH(設定!G22,0)),マスタ!L:P,3,FALSE)","v":177},{"$f":"VLOOKUP(DAY(EOMONTH(設定!G22,0)),マスタ!L:P,4,FALSE)","v":8}]
[{"$nulls":4},"法定労働時間を超えた時間分→",{"$f":"ROUNDDOWN(G44,0)","v":-177},{"$f":"ABS(G44-L45)*60","v":10628}]
[{"$nulls":4},"深夜時間分→",{"$f":"F40+QUOTIENT(G40,60)","v":0},{"$f":"MOD(G40,60)","v":0}]
[{"$nulls":4},"休日時間分→",{"$f":"D41+QUOTIENT(E41,60)","v":0},{"$f":"MOD(E41,60)","v":0}]

{"sheet":"マスタ","index":2,"n_rows":223,"n_cols":18,"rows_kept":223,"hidden":true}
["年月日","曜日","祝日名",null,"曜日No.","曜日","Weekday",null,"祝日表記CD","表記名",null,"歴日数","法定労働時間","法定労働時間時間","法定労働時間分","法定労働時間（分換算）",null,"備考プルダウン表記"]
["2021-04-29",{"$f":"A2","v":44315},"昭和の日",null,1,"月","Mon",null,0,"祝",null,28,{"$f":"40/7*L2/24","v":6.666666666666667},160,{"v":0,"d":"00"},{"$f":"N2*60+O2","v":9600},null,"振替休日 / Day off in-lieu"]
["2021-05-03",44319,"憲法記念日",null,2,"火","Tue",null,1,"Hol",null,29,6.904761904761905,165,42,{"$f":"N3*60+O3","v":9942},null,"入試業務 / work for entrance exam"]
["2021-05-04",44320,"みどりの日",null,3,"水","Wed",{"$nulls":4},30,7.142857142857143,171,25,{"$f":"N4*60+O4","v":10285},null,"所属長許可済み / This work has been permitted by the head of their affiliation"]
["2021-05-05",44321,"こどもの日",null,4,"木","Thu",{"$nulls":4},31,{"$f":"40/7*L5/24","v":7.3809523809523805},177,{"v":8,"d":"08"},{"$f":"N5*60+O5","v":10628}]
["2021/7/22","木","海の日",null,5,"金","Fri"]
["2021/7/23","金","スポーツの日",null,6,"土","Sat"]
["2021/8/8","日","山の日",null,7,"日","Sun"]
["2021/8/9","月","振替休日"]
["2021/9/20","月","敬老の日"]
["2021/9/23","木","秋分の日"]
["2021-11-03",{"$f":"A12","v":44503},"文化の日"]
["2021-11-23",44523,"勤労感謝の日"]
["2021-12-29",44559,"年末年始休"]
["2021-12-30",44560,"年末年始休"]
["2021-12-31",44561,"年末年始休"]
["2022-01-01",44562,"元日"]
["2022-01-02",44563,"年末年始休"]
["2022-01-03",44564,"年末年始休"]
["2022-01-10",44571,"成人の日"]
["2022-02-11",44603,"建国記念の日"]
["2022-02-23",44615,"天皇誕生日"]
["2022-03-21",44641,"春分の日"]
["2022-04-29",44680,"昭和の日"]
["2022-05-03",44684,"憲法記念日"]
["2022-05-04",44685,"みどりの日"]
["2022-05-05",44686,"こどもの日"]
["2022-07-18",44760,"海の日"]
["2022-08-11",44784,"山の日"]
["2022-09-19",44823,"敬老の日"]
["2022-09-23",44827,"秋分の日"]
["2022-10-10",44844,"スポーツの日"]
["2022-11-03",44868,"文化の日"]
["2022-11-23",44888,"勤労感謝の日"]
["2022-12-29",44924,"年末年始休"]
["2022-12-30",44925,"年末年始休"]
["2022-12-31",44926,"年末年始休"]
["2023-01-01",44927,"元日"]
["2023-01-02",44928,"年末年始休"]
["2023-01-03",44929,"年末年始休"]
["2023-01-02",44928,"振替休日"]
["2023-01-09",44935,"成人の日"]
["2023-02-11",44968,"建国記念の日"]
["2023-02-23",44980,"天皇誕生日"]
["2023-03-21",45006,"春分の日"]
["2023-04-29",45045,"昭和の日"]
["2023-05-03",45049,"憲法記念日"]
["2023-05-04",45050,"みどりの日"]
["2023-05-05",45051,"こどもの日"]
["2023-07-17",45124,"海の日"]
["2023-08-11",45149,"山の日"]
["2023-09-18",45187,"敬老の日"]
["2023-09-23",45192,"秋分の日"]
["2023-10-09",45208,"スポーツの日"]
["2023-11-03",45233,"文化の日"]
["2023-11-23",45253,"勤労感謝の日"]
["2023-12-29",45289,"年末年始休"]
["2023-12-30",45290,"年末年始休"]
["2023-12-31",45291,"年末年始休"]
["2024-01-01",45292,"元日"]
["2024-01-02",45293,"年末年始休"]
["2024-01-03",45294,"年末年始休"]
["2024-01-08",45299,"成人の日"]
["2024-02-11",45333,"建国記念の日"]
["2024-02-12",45334,"振替休日"]
["2024-02-23",45345,"天皇誕生日"]
["2024-03-20",45371,"春分の日"]
["2024-04-29",45411,"昭和の日"]
["2024-05-03",45415,"憲法記念日"]
["2024-05-04",45416,"みどりの日"]
["2024-05-05",45417,"こどもの日"]
["2024-05-06",45418,"振替休日"]
["2024-07-15",45488,"海の日"]
["2024-08-11",45515,"山の日"]
["2024-08-12",45516,"振替休日"]
["2024-09-16",{"$f":"A76","v":45551},"敬老の日"]
["2024-09-22",45557,"秋分の日"]
["2024-09-23",45558,"振替休日"]
["2024-10-14",45579,"スポーツの日"]
["2024-11-03",45599,"文化の日"]
["2024-11-04",45600,"振替休日"]
["2024-11-23",45619,"勤労感謝の日"]
["2024-12-29",45655,"年末年始休"]
["2024-12-30",45656,"年末年始休"]
["2024-12-31",45657,"年末年始休"]
["2025-01-01",45658,"元日"]
["2025-01-02",45659,"年末年始休"]
["2025-01-03",45660,"年末年始休"]
["2025-01-13",45670,"成人の日"]
["2025-02-11",45699,"建国記念の日"]
["2025-02-23",45711,"天皇誕生日"]
["2025-02-24",45712,"振替休日"]
["2025-03-20",45736,"春分の日"]
["2025-04-29",45776,"昭和の日"]
["2025-05-03",45780,"憲法記念日"]
["2025-05-04",45781,"みどりの日"]
["2025-05-05",45782,"こどもの日"]
["2025-05-06",45783,"振替休日"]
["2025-07-21",45859,"海の日"]
["2025-08-11",45880,"山の日"]
["2025-09-15",45915,"敬老の日"]
["2025-09-23",45923,"秋分の日"]
["2025-10-13",45943,"スポーツの日"]
["2025-11-03",45964,"文化の日"]
["2025-11-23",45984,"勤労感謝の日"]
["2025-11-24",45985,"振替休日"]
["2025-12-29",46020,"年末年始休"]
["2025-12-30",46021,"年末年始休"]
["2025-12-31",46022,"年末年始休"]
["2026-01-01",46023,"元日"]
["2026-01-02",46024,"年末年始休"]
["2026-01-03",46025,"年末年始休"]
["2026-01-12",46034,"成人の日"]
["2026-02-11",46064,"建国記念の日"]
["2026-02-23",46076,"天皇誕生日"]
["2026-03-20",46101,"春分の日"]
["2026-04-29",46141,"昭和の日"]
["2026-05-03",46145,"憲法記念日"]
["2026-05-04",46146,"みどりの日"]
["2026-05-05",46147,"こどもの日"]
["2026-05-06",46148,"振替休日"]
["2026-07-20",46223,"海の日"]
["2026-08-11",46245,"山の日"]
["2026-09-21",46286,"敬老の日"]
["2026-09-22",46287,"国民の休日"]
["2026-09-23",46288,"秋分の日"]
["2026-10-12",46307,"スポーツの日"]
["2026-11-03",46329,"文化の日"]
["2026-11-23",46349,"勤労感謝の日"]
["2026-12-29",46385,"年末年始休"]
["2026-12-30",46386,"年末年始休"]
["2026-12-31",46387,"年末年始休"]
["2027-01-01",46388,"元日"]
["2027-01-02",46389,"年末年始休"]
["2027-01-03",46390,"年末年始休"]
["2027-01-11",46398,"成人の日"]
["2027-02-11",46429,"建国記念の日"]
["2027-02-23",46441,"天皇誕生日"]
["2027-03-21",46467,"春分の日"]
["2027-03-22",46468,"振替休日"]
["2027-04-29",46506,"昭和の日"]
["2027-05-03",46510,"憲法記念日"]
["2027-05-04",46511,"みどりの日"]
["2027-05-05",46512,"こどもの日"]
["2027-07-19",46587,"海の日"]
["2027-08-11",46610,"山の日"]
["2027-09-20",46650,"敬老の日"]
["2027-09-23",46653,"秋分の日"]
["2027-10-11",46671,"スポーツの日"]
["2027-11-03",46694,"文化の日"]
["2027-11-23",46714,"勤労感謝の日"]
["2027-12-29",46750,"年末年始休"]
["2027-12-30",46751,"年末年始休"]
["2027-12-31",46752,"年末年始休"]
["2028-01-01",{"$f":"A155","v":46753},"元日"]
["2028-01-02",46754,"年末年始休"]
["2028-01-03",46755,"年末年始休"]
["2028-01-10",46762,"成人の日"]
["2028-02-11",46794,"建国記念の日"]
["2028-02-23",46806,"天皇誕生日"]
["2028-03-20",46832,"春分の日"]
["2028-04-29",46872,"昭和の日"]
["2028-05-03",46876,"憲法記念日"]
["2028-05-04",46877,"みどりの日"]
["2028-05-05",46878,"こどもの日"]
["2028-07-17",46951,"海の日"]
["2028-08-11",46976,"山の日"]
["2028-09-18",47014,"敬老の日"]
["2028-09-22",47018,"秋分の日"]
["2028-10-09",47035,"スポーツの日"]
["2028-11-03",47060,"文化の日"]
["2028-11-23",47080,"勤労感謝の日"]
["2028-12-29",47116,"年末年始休"]
["2028-12-30",47117,"年末年始休"]
["2028-12-31",47118,"年末年始休"]
["2029-01-01",47119,"元日"]
["2029-01-02",47120,"年末年始休"]
["2029-01-03",47121,"年末年始休"]
["2029-01-08",47126,"成人の日"]
["2029-02-11",47160,"建国記念の日"]
["2029-02-12",47161,"振替休日"]
["2029-02-23",47172,"天皇誕生日"]
["2029-03-20",47197,"春分の日"]
["2029-04-29",47237,"昭和の日"]
["2029-04-30",47238,"振替休日"]
["2029-05-03",47241,"憲法記念日"]
["2029-05-04",47242,"みどりの日"]
["2029-05-05",47243,"こどもの日"]
["2029-07-16",47315,"海の日"]
["2029-08-11",47341,"山の日"]
["2029-09-17",47378,"敬老の日"]
["2029-09-23",47384,"秋分の日"]
["2029-09-24",47385,"振替休日"]
["2029-10-08",47399,"スポーツの日"]
["2029-11-03",47425,"文化の日"]
["2029-11-23",47445,"勤労感謝の日"]
["2029-12-29",47481,"年末年始休"]
["2029-12-30",47482,"年末年始休"]
["2029-12-31",47483,"年末年始休"]
["2030-01-01",47484,"元日"]
["2030-01-02",47485,"年末年始休"]
["2030-01-03",47486,"年末年始休"]
["2030-01-14",47497,"成人の日"]
["2030-02-11",47525,"建国記念の日"]
["2030-02-23",47537,"天皇誕生日"]
["2030-03-20",47562,"春分の日"]
["2030-04-29",47602,"昭和の日"]
["2030-05-03",47606,"憲法記念日"]
["2030-05-04",47607,"みどりの日"]
["2030-05-05",47608,"こどもの日"]
["2030-05-06",47609,"振替休日"]
["2030-07-15",47679,"海の日"]
["2030-08-11",47706,"山の日"]
["2030-08-12",47707,"振替休日"]
["2030-09-16",47742,"敬老の日"]
["2030-09-23",47749,"秋分の日"]
["2030-10-14",47770,"スポーツの日"]
["2030-11-03",47790,"文化の日"]
["2030-11-04",47791,"振替休日"]
["2030-11-23",47810,"勤労感謝の日"]
["2030-12-29",47846,"年末年始休"]
["2030-12-30",47847,"年末年始休"]
["2030-12-31",47848,"年末年始休"]